BEGIN:VCALENDAR
METHOD:PUBLISH
PRODID:-//LogicWorks GmbH//NONSGML Contentory//EN
VERSION:2.0
CALSCALE:GREGORIAN
X-MS-OLK-FORCEINSPECTOROPEN:TRUE
BEGIN:VEVENT
DTSTAMP:20260419T191427Z
SUMMARY:InfoveranstaltungZirkuläre Produktion
DESCRIPTION:Am Mittwoch\, 25.03.2026\, findet um 13:00 Uhr eine Informationsveranstal
 tung zur Fördermaßnahme „Zirkuläre Produktion“ (ZiPo.NRW) statt.
LOCATION:digital
CREATED:20260305T063526
LAST-MODIFIED:20260305T063640
DTSTART;VALUE=DATE:20260325T130000
DTEND;VALUE=DATE:20260325T143000
UID:sn_751_date_0@logic-works.net
END:VEVENT
END:VCALENDAR